BEGIN:VCALENDAR
VERSION:2.0
PRODID:-//Friends of Royal Hospital - ECPv6.15.11//NONSGML v1.0//EN
CALSCALE:GREGORIAN
METHOD:PUBLISH
X-ORIGINAL-URL:https://friendsofrhd.ie
X-WR-CALDESC:Events for Friends of Royal Hospital
REFRESH-INTERVAL;VALUE=DURATION:PT1H
X-Robots-Tag:noindex
X-PUBLISHED-TTL:PT1H
BEGIN:VTIMEZONE
TZID:Europe/Dublin
BEGIN:DAYLIGHT
TZOFFSETFROM:+0000
TZOFFSETTO:+0100
TZNAME:IST
DTSTART:20220327T010000
END:DAYLIGHT
BEGIN:STANDARD
TZOFFSETFROM:+0100
TZOFFSETTO:+0000
TZNAME:GMT
DTSTART:20221030T010000
END:STANDARD
BEGIN:DAYLIGHT
TZOFFSETFROM:+0000
TZOFFSETTO:+0100
TZNAME:IST
DTSTART:20230326T010000
END:DAYLIGHT
BEGIN:STANDARD
TZOFFSETFROM:+0100
TZOFFSETTO:+0000
TZNAME:GMT
DTSTART:20231029T010000
END:STANDARD
BEGIN:DAYLIGHT
TZOFFSETFROM:+0000
TZOFFSETTO:+0100
TZNAME:IST
DTSTART:20240331T010000
END:DAYLIGHT
BEGIN:STANDARD
TZOFFSETFROM:+0100
TZOFFSETTO:+0000
TZNAME:GMT
DTSTART:20241027T010000
END:STANDARD
END:VTIMEZONE
BEGIN:VEVENT
DTSTART;TZID=Europe/Dublin:20230523T090000
DTEND;TZID=Europe/Dublin:20230523T220000
DTSTAMP:20260420T072701
CREATED:20230223T131219Z
LAST-MODIFIED:20250310T133149Z
UID:470-1684832400-1684879200@friendsofrhd.ie
SUMMARY:32nd Annual Golf Day - Elm Park Golf Club
DESCRIPTION:Our 32nd Annual Golf Day will take place in Elm Park Golf Club on Tuesday 23rd May 2023\nTeams of 4 \nShotgun start at 8am and 2.15pm \nBBQ Lunch or Dinner after play \nGolf Prizes sponsored by Gowan Group \nRaffle Prizes sponsored by Davy \nGoodie Bags sponsored by Aramark \nBooking:  Fill out the form Golf Day Booking Form 2023 \nReturn by e mail:  susan@friendsofrhd.ie \nBy Post:  Friends of the Royal Hospital Donnybrook\, Bloomfield Avenue\, Morehampton Road\, Dublin 4
URL:https://friendsofrhd.ie/event/32nd-annual-golf-day-elm-park-golf-club/
LOCATION:Elm Park Golf Club\, Nutley Lane\, Dublin 4\, Ireland
ATTACH;FMTTYPE=image/jpeg:https://friendsofrhd.ie/wp-content/webpc-passthru.php?src=https://friendsofrhd.ie/wp-content/uploads/2025/03/a5b07272-7aa4-47bb-a937-f73a1eff4103-PtRwc0.tmp_.jpg&amp;nocache=1
END:VEVENT
END:VCALENDAR