BEGIN:VCALENDAR
VERSION:2.0
PRODID:-//Friends of Royal Hospital - ECPv6.15.11//NONSGML v1.0//EN
CALSCALE:GREGORIAN
METHOD:PUBLISH
X-ORIGINAL-URL:https://friendsofrhd.ie
X-WR-CALDESC:Events for Friends of Royal Hospital
REFRESH-INTERVAL;VALUE=DURATION:PT1H
X-Robots-Tag:noindex
X-PUBLISHED-TTL:PT1H
BEGIN:VTIMEZONE
TZID:Europe/Dublin
BEGIN:DAYLIGHT
TZOFFSETFROM:+0000
TZOFFSETTO:+0100
TZNAME:IST
DTSTART:20210328T010000
END:DAYLIGHT
BEGIN:STANDARD
TZOFFSETFROM:+0100
TZOFFSETTO:+0000
TZNAME:GMT
DTSTART:20211031T010000
END:STANDARD
BEGIN:DAYLIGHT
TZOFFSETFROM:+0000
TZOFFSETTO:+0100
TZNAME:IST
DTSTART:20220327T010000
END:DAYLIGHT
BEGIN:STANDARD
TZOFFSETFROM:+0100
TZOFFSETTO:+0000
TZNAME:GMT
DTSTART:20221030T010000
END:STANDARD
BEGIN:DAYLIGHT
TZOFFSETFROM:+0000
TZOFFSETTO:+0100
TZNAME:IST
DTSTART:20230326T010000
END:DAYLIGHT
BEGIN:STANDARD
TZOFFSETFROM:+0100
TZOFFSETTO:+0000
TZNAME:GMT
DTSTART:20231029T010000
END:STANDARD
END:VTIMEZONE
BEGIN:VEVENT
DTSTART;VALUE=DATE:20221001
DTEND;VALUE=DATE:20221003
DTSTAMP:20260420T174904
CREATED:20220427T121216Z
LAST-MODIFIED:20250310T133149Z
UID:467-1664586000-1664672399@friendsofrhd.ie
SUMMARY:Robin Simpson Memorial Walk - Saturday 1st October 2022
DESCRIPTION:The Robin Simpson Memorial Walk in aid of The Friends of The Royal Hospital Donnybrook is taking place in Glendalough on Saturday 1st October 2022 and we hope that you can join us.  Your support would be much appreciated.\nThe walks leave from the Visitor Car Park in Glendalough at 11.30 – sign in for those registered starts from 10.45. \nThere are 3 walks to choose from – one for every level of fitness: \n1.  EASY WALK:   \nLower Lake and Play Area – suitable for families with young children.  (Approx. 1 hour) \n2.  MODERATE WALK:   \nDerrybawn Woodland (Approx 2 hours) \n3.  CHALLENGING WALK:  \n Spink and Glenealo Valley (white route)  Hiking Boots essential.  Requires strong level of      fitness. (Approx 4 hours) \nWhen the walk is over\, please join us for sponsored light refreshments in the lovely Glendalough Hotel beside the Visitors Centre. \nIt is important to register in advance\, so we can plan for numbers.  To register and donate please click below.  There is an option to book a return seat on the coach leaving from RHD at 9.30 sharp and returns begin at 4.00pm (€15 per person).  You might want to consider this as car parking can be tight at the centre. \nIf you have any further queries about the walk please contact the organisers at robinmemorialwalk@gmail.com \nREGISTER & DONATE (click here)  \n  \n 
URL:https://friendsofrhd.ie/event/robin-simpson-memorial-walk-saturday-1st-october-2022/
LOCATION:Royal Hospital Donnybrook\, Bloomfield Avenue\, Morehampton Road\, Dublin\, D04HX40\, Ireland
ATTACH;FMTTYPE=image/jpeg:https://friendsofrhd.ie/wp-content/webpc-passthru.php?src=https://friendsofrhd.ie/wp-content/uploads/2025/03/Robin-Nuala-Miriam-Oisin-scaled-GmKQ9F.tmp_.jpg&amp;nocache=1
END:VEVENT
END:VCALENDAR