BEGIN:VCALENDAR
VERSION:2.0
PRODID:-//Friends of Royal Hospital - ECPv6.15.11//NONSGML v1.0//EN
CALSCALE:GREGORIAN
METHOD:PUBLISH
X-WR-CALNAME:Friends of Royal Hospital
X-ORIGINAL-URL:https://friendsofrhd.ie
X-WR-CALDESC:Events for Friends of Royal Hospital
REFRESH-INTERVAL;VALUE=DURATION:PT1H
X-Robots-Tag:noindex
X-PUBLISHED-TTL:PT1H
BEGIN:VTIMEZONE
TZID:Europe/Dublin
BEGIN:DAYLIGHT
TZOFFSETFROM:+0000
TZOFFSETTO:+0100
TZNAME:IST
DTSTART:20210328T010000
END:DAYLIGHT
BEGIN:STANDARD
TZOFFSETFROM:+0100
TZOFFSETTO:+0000
TZNAME:GMT
DTSTART:20211031T010000
END:STANDARD
BEGIN:DAYLIGHT
TZOFFSETFROM:+0000
TZOFFSETTO:+0100
TZNAME:IST
DTSTART:20220327T010000
END:DAYLIGHT
BEGIN:STANDARD
TZOFFSETFROM:+0100
TZOFFSETTO:+0000
TZNAME:GMT
DTSTART:20221030T010000
END:STANDARD
BEGIN:DAYLIGHT
TZOFFSETFROM:+0000
TZOFFSETTO:+0100
TZNAME:IST
DTSTART:20230326T010000
END:DAYLIGHT
BEGIN:STANDARD
TZOFFSETFROM:+0100
TZOFFSETTO:+0000
TZNAME:GMT
DTSTART:20231029T010000
END:STANDARD
END:VTIMEZONE
BEGIN:VEVENT
DTSTART;TZID=Europe/Dublin:20220611T103000
DTEND;TZID=Europe/Dublin:20220611T173000
DTSTAMP:20260421T005831
CREATED:20220330T121215Z
LAST-MODIFIED:20250310T133149Z
UID:466-1654943400-1654968600@friendsofrhd.ie
SUMMARY:Family Fun Day with Beechwood Football Club - Saturday 11 June 2022
DESCRIPTION:  The Friends are delighted to confirm that we will be having our Family Fun Day on Saturday 11 June in the grounds of RHD.\nThis event will raise funds to purchase 4 x Motomeds for the Physiotherapy Department.  This will enable the team to provide aerobic and flexibility exercise training to all the residents and patients undertaking physiotherapy. \nThe Day will be packed with fun and activities for the family including football tournament\, BBQ\, refreshments and more.
URL:https://friendsofrhd.ie/event/family-fun-day-with-beechwood-football-club-saturday-11-june-2022/
LOCATION:Royal Hospital Donnybrook\, Bloomfield Avenue\, Morehampton Road\, Dublin\, D04HX40\, Ireland
ATTACH;FMTTYPE=image/jpeg:https://friendsofrhd.ie/wp-content/webpc-passthru.php?src=https://friendsofrhd.ie/wp-content/uploads/2025/03/FFD-Broad-Shot-scaled-1.jpg&amp;nocache=1
END:VEVENT
END:VCALENDAR