BEGIN:VCALENDAR
VERSION:2.0
PRODID:-//Friends of Royal Hospital - ECPv6.15.11//NONSGML v1.0//EN
CALSCALE:GREGORIAN
METHOD:PUBLISH
X-WR-CALNAME:Friends of Royal Hospital
X-ORIGINAL-URL:https://friendsofrhd.ie
X-WR-CALDESC:Events for Friends of Royal Hospital
REFRESH-INTERVAL;VALUE=DURATION:PT1H
X-Robots-Tag:noindex
X-PUBLISHED-TTL:PT1H
BEGIN:VTIMEZONE
TZID:Europe/Dublin
BEGIN:DAYLIGHT
TZOFFSETFROM:+0000
TZOFFSETTO:+0100
TZNAME:IST
DTSTART:20210328T010000
END:DAYLIGHT
BEGIN:STANDARD
TZOFFSETFROM:+0100
TZOFFSETTO:+0000
TZNAME:GMT
DTSTART:20211031T010000
END:STANDARD
BEGIN:DAYLIGHT
TZOFFSETFROM:+0000
TZOFFSETTO:+0100
TZNAME:IST
DTSTART:20220327T010000
END:DAYLIGHT
BEGIN:STANDARD
TZOFFSETFROM:+0100
TZOFFSETTO:+0000
TZNAME:GMT
DTSTART:20221030T010000
END:STANDARD
BEGIN:DAYLIGHT
TZOFFSETFROM:+0000
TZOFFSETTO:+0100
TZNAME:IST
DTSTART:20230326T010000
END:DAYLIGHT
BEGIN:STANDARD
TZOFFSETFROM:+0100
TZOFFSETTO:+0000
TZNAME:GMT
DTSTART:20231029T010000
END:STANDARD
END:VTIMEZONE
BEGIN:VEVENT
DTSTART;TZID=Europe/Dublin:20220524T090000
DTEND;TZID=Europe/Dublin:20220524T210000
DTSTAMP:20260421T021828
CREATED:20211213T131211Z
LAST-MODIFIED:20250310T133149Z
UID:462-1653382800-1653426000@friendsofrhd.ie
SUMMARY:31st Annual Golf Day - Tuesday 24th May 2022 - Elm Park Golf Club
DESCRIPTION:The Friends 31st Annual Golf day will be held in Elm Park Golf Club on Tuesday 24th May 2022.\nRunning order of the day click here \nSupport the Raffle \nSupport the SILENT AUCTION \nPLATINUM –  2.15 pm Shotgun Start including team of 4 and sponsorship of a Tee and a Green and BBQ Dinner  –  €1\,000 \nGOLD – 2.15 pm Shotgun Start including team of 4 and BBQ Dinner  –  €800 \nSILVER – 9 am Shotgun Start including team of 4 and sponsorship of a Tee or a Green and BBQ Lunch  –  €700 \nBRONZE – 9 am Shotgun Start including Team of 4 and BBQ Lunch  –  €600 \nSponsor a Tee or Green – €150           Sponsor a Tee and Green €250 \nClick here for booking form \nGoodie Bags kindly sponsored by Clive and Margaret Redford – Spar \nGolf Prizes are again sponsored by GOWAN Group  \nRaffle Prizes are again sponsored by DAVY                     
URL:https://friendsofrhd.ie/event/31st-annual-golf-day-tuesday-24th-may-2022-elm-park-golf-club/
LOCATION:Elm Park Golf Club\, Nutley Lane\, Dublin 4\, Ireland
ATTACH;FMTTYPE=image/jpeg:https://friendsofrhd.ie/wp-content/webpc-passthru.php?src=https://friendsofrhd.ie/wp-content/uploads/2021/09/Golf-Day-2021-Winners.jpg&amp;nocache=1
END:VEVENT
END:VCALENDAR