BEGIN:VCALENDAR
VERSION:2.0
PRODID:-//Friends of Royal Hospital - ECPv6.15.11//NONSGML v1.0//EN
CALSCALE:GREGORIAN
METHOD:PUBLISH
X-WR-CALNAME:Friends of Royal Hospital
X-ORIGINAL-URL:https://friendsofrhd.ie
X-WR-CALDESC:Events for Friends of Royal Hospital
REFRESH-INTERVAL;VALUE=DURATION:PT1H
X-Robots-Tag:noindex
X-PUBLISHED-TTL:PT1H
BEGIN:VTIMEZONE
TZID:Europe/Dublin
BEGIN:DAYLIGHT
TZOFFSETFROM:+0000
TZOFFSETTO:+0100
TZNAME:IST
DTSTART:20200329T010000
END:DAYLIGHT
BEGIN:STANDARD
TZOFFSETFROM:+0100
TZOFFSETTO:+0000
TZNAME:GMT
DTSTART:20201025T010000
END:STANDARD
BEGIN:DAYLIGHT
TZOFFSETFROM:+0000
TZOFFSETTO:+0100
TZNAME:IST
DTSTART:20210328T010000
END:DAYLIGHT
BEGIN:STANDARD
TZOFFSETFROM:+0100
TZOFFSETTO:+0000
TZNAME:GMT
DTSTART:20211031T010000
END:STANDARD
BEGIN:DAYLIGHT
TZOFFSETFROM:+0000
TZOFFSETTO:+0100
TZNAME:IST
DTSTART:20220327T010000
END:DAYLIGHT
BEGIN:STANDARD
TZOFFSETFROM:+0100
TZOFFSETTO:+0000
TZNAME:GMT
DTSTART:20221030T010000
END:STANDARD
END:VTIMEZONE
BEGIN:VEVENT
DTSTART;TZID=Europe/Dublin:20210914T090000
DTEND;TZID=Europe/Dublin:20210914T210000
DTSTAMP:20260421T023722
CREATED:20210429T121208Z
LAST-MODIFIED:20250310T133149Z
UID:458-1631610000-1631653200@friendsofrhd.ie
SUMMARY:30th Annual Golf Day
DESCRIPTION:Our 30th Annual Golf Day will be held in Elm Park Golf Club on Tuesday 14th September.  We are delighted to announce that the Gowan Group have come on board as our main sponsor for the event.\nThe format is for teams of 4 with Golf Ireland handicaps. \nMorning times from 8.00 am including Coffee\, Croissant on arrival and BBQ after play €600 team of 4 \nAfternoon times from 2.00 pm including Coffee\, Sandwich on arrival and BBQ after play €800 team of 4 \nYou can download the booking form and send by post or email it to susan@friendsofrhd.ie. \nPayment can be made by cheque\, card or electronic transfer (details on the form) \nGolf Day 2021 Booking Form \nClick  Golf Raffle 2021 for more information on the Fabulous prizes.  Sponsors include;  DAVY\, John Taylor Mans Shop\, Gleesons Town House Booterstown\, Fourball Vouchers\, Short Game clinic with Peter Morgan and more. \n\n  \nThis year you can purchase your ticket online. \nPurchase Ticket online – 1 x line cost €20\nPurchase Ticket online – 3 x lines cost €50  (no limit)\n Online ticket purchase is available from Thursday 9th September at 2pm to Tuesday 14th September at 10pm.  The draw will take place on Wednesday 15th September. \n\n  \nRaffle permit granted by Donnybrook Garda Station. \nTeam Captains\, please fill in this contact form and return to susan@friends@rhd.ie before 12th September \n 
URL:https://friendsofrhd.ie/event/30th-annual-golf-day/
ATTACH;FMTTYPE=image/jpeg:https://friendsofrhd.ie/wp-content/webpc-passthru.php?src=https://friendsofrhd.ie/wp-content/uploads/2025/03/Golf-Event-dIkDVE.tmp_.jpg&amp;nocache=1
END:VEVENT
BEGIN:VEVENT
DTSTART;TZID=Europe/Dublin:20210828T100000
DTEND;TZID=Europe/Dublin:20210828T170000
DTSTAMP:20260421T023722
CREATED:20210429T121207Z
LAST-MODIFIED:20250310T133149Z
UID:457-1630144800-1630170000@friendsofrhd.ie
SUMMARY:Family Fun Day with Beechwood Football Club
DESCRIPTION:2021 will hopefully be the third year of running The Family Fun Day.\nMore information to follow.
URL:https://friendsofrhd.ie/event/family-fun-day-with-beechwood-football-club/
ATTACH;FMTTYPE=image/jpeg:https://friendsofrhd.ie/wp-content/webpc-passthru.php?src=https://friendsofrhd.ie/wp-content/uploads/2025/03/Family-Fun-lckSAL.tmp_.jpg&amp;nocache=1
END:VEVENT
END:VCALENDAR