BEGIN:VCALENDAR
VERSION:2.0
PRODID:-//Friends of Royal Hospital - ECPv6.15.11//NONSGML v1.0//EN
CALSCALE:GREGORIAN
METHOD:PUBLISH
X-ORIGINAL-URL:https://friendsofrhd.ie
X-WR-CALDESC:Events for Friends of Royal Hospital
REFRESH-INTERVAL;VALUE=DURATION:PT1H
X-Robots-Tag:noindex
X-PUBLISHED-TTL:PT1H
BEGIN:VTIMEZONE
TZID:Europe/Dublin
BEGIN:DAYLIGHT
TZOFFSETFROM:+0000
TZOFFSETTO:+0100
TZNAME:IST
DTSTART:20220327T010000
END:DAYLIGHT
BEGIN:STANDARD
TZOFFSETFROM:+0100
TZOFFSETTO:+0000
TZNAME:GMT
DTSTART:20221030T010000
END:STANDARD
BEGIN:DAYLIGHT
TZOFFSETFROM:+0000
TZOFFSETTO:+0100
TZNAME:IST
DTSTART:20230326T010000
END:DAYLIGHT
BEGIN:STANDARD
TZOFFSETFROM:+0100
TZOFFSETTO:+0000
TZNAME:GMT
DTSTART:20231029T010000
END:STANDARD
BEGIN:DAYLIGHT
TZOFFSETFROM:+0000
TZOFFSETTO:+0100
TZNAME:IST
DTSTART:20240331T010000
END:DAYLIGHT
BEGIN:STANDARD
TZOFFSETFROM:+0100
TZOFFSETTO:+0000
TZNAME:GMT
DTSTART:20241027T010000
END:STANDARD
END:VTIMEZONE
BEGIN:VEVENT
DTSTART;TZID=Europe/Dublin:20231006T133000
DTEND;TZID=Europe/Dublin:20231006T173000
DTSTAMP:20260420T114525
CREATED:20230223T131231Z
LAST-MODIFIED:20250310T133149Z
UID:473-1696599000-1696613400@friendsofrhd.ie
SUMMARY:4th Annual Ladies Lunch - Merrion Hotel Dublin
DESCRIPTION:Our 4th Annual Ladies Lunch will take place in the Garden Room\, Merrion Hotel\, Dublin 2 on Friday 6th October 2023\nMore details will follow. \nIf you would like to register interest\, please e mail susan@friendsofrhd.ie \n 
URL:https://friendsofrhd.ie/event/4th-annual-ladies-lunch-merrion-hotel-dublin/
LOCATION:Merrion Hotel\, Merrion Street Upper\, Dublin 2\, Ireland
ATTACH;FMTTYPE=image/jpeg:https://friendsofrhd.ie/wp-content/webpc-passthru.php?src=https://friendsofrhd.ie/wp-content/uploads/2025/03/LL-22-11-snx7Xz.tmp_.jpg&amp;nocache=1
END:VEVENT
END:VCALENDAR