BEGIN:VCALENDAR
VERSION:2.0
PRODID:-//Friends of Royal Hospital - ECPv6.15.11//NONSGML v1.0//EN
CALSCALE:GREGORIAN
METHOD:PUBLISH
X-ORIGINAL-URL:https://friendsofrhd.ie
X-WR-CALDESC:Events for Friends of Royal Hospital
REFRESH-INTERVAL;VALUE=DURATION:PT1H
X-Robots-Tag:noindex
X-PUBLISHED-TTL:PT1H
BEGIN:VTIMEZONE
TZID:Europe/Dublin
BEGIN:DAYLIGHT
TZOFFSETFROM:+0000
TZOFFSETTO:+0100
TZNAME:IST
DTSTART:20210328T010000
END:DAYLIGHT
BEGIN:STANDARD
TZOFFSETFROM:+0100
TZOFFSETTO:+0000
TZNAME:GMT
DTSTART:20211031T010000
END:STANDARD
BEGIN:DAYLIGHT
TZOFFSETFROM:+0000
TZOFFSETTO:+0100
TZNAME:IST
DTSTART:20220327T010000
END:DAYLIGHT
BEGIN:STANDARD
TZOFFSETFROM:+0100
TZOFFSETTO:+0000
TZNAME:GMT
DTSTART:20221030T010000
END:STANDARD
BEGIN:DAYLIGHT
TZOFFSETFROM:+0000
TZOFFSETTO:+0100
TZNAME:IST
DTSTART:20230326T010000
END:DAYLIGHT
BEGIN:STANDARD
TZOFFSETFROM:+0100
TZOFFSETTO:+0000
TZNAME:GMT
DTSTART:20231029T010000
END:STANDARD
END:VTIMEZONE
BEGIN:VEVENT
DTSTART;TZID=Europe/Dublin:20220930T133000
DTEND;TZID=Europe/Dublin:20220930T173000
DTSTAMP:20260420T191233
CREATED:20211213T131212Z
LAST-MODIFIED:20250310T133149Z
UID:464-1664544600-1664559000@friendsofrhd.ie
SUMMARY:Friends 3rd Ladies Lunch - Friday 30th September 2022 - Garden Room\, Merrion Hotel
DESCRIPTION:The Friends 3rd Ladies Lunch will be on Friday 30th September 2022 in The Garden Room\, Merrion Hotel.\nMiariam O’Callaghan will again be our MC for the afternoon.
URL:https://friendsofrhd.ie/event/friends-3rd-ladies-lunch-friday-30th-september-2022-garden-room-merrion-hotel/
LOCATION:Merrion Hotel\, Merrion Street Upper\, Dublin 2\, Ireland
ATTACH;FMTTYPE=image/jpeg:https://friendsofrhd.ie/wp-content/webpc-passthru.php?src=https://friendsofrhd.ie/wp-content/uploads/2025/03/LL-2021-T6-FKpGK2.tmp_.jpg&amp;nocache=1
END:VEVENT
END:VCALENDAR